BEGIN:VCALENDAR
VERSION:2.0
PRODID:-//Jenkins Arboretum &amp; Gardens - ECPv6.15.17.1//NONSGML v1.0//EN
CALSCALE:GREGORIAN
METHOD:PUBLISH
X-ORIGINAL-URL:https://www.jenkinsarboretum.org
X-WR-CALDESC:Events for Jenkins Arboretum &amp; Gardens
REFRESH-INTERVAL;VALUE=DURATION:PT1H
X-Robots-Tag:noindex
X-PUBLISHED-TTL:PT1H
BEGIN:VTIMEZONE
TZID:America/New_York
BEGIN:DAYLIGHT
TZOFFSETFROM:-0500
TZOFFSETTO:-0400
TZNAME:EDT
DTSTART:20250309T070000
END:DAYLIGHT
BEGIN:STANDARD
TZOFFSETFROM:-0400
TZOFFSETTO:-0500
TZNAME:EST
DTSTART:20251102T060000
END:STANDARD
BEGIN:DAYLIGHT
TZOFFSETFROM:-0500
TZOFFSETTO:-0400
TZNAME:EDT
DTSTART:20260308T070000
END:DAYLIGHT
BEGIN:STANDARD
TZOFFSETFROM:-0400
TZOFFSETTO:-0500
TZNAME:EST
DTSTART:20261101T060000
END:STANDARD
BEGIN:DAYLIGHT
TZOFFSETFROM:-0500
TZOFFSETTO:-0400
TZNAME:EDT
DTSTART:20270314T070000
END:DAYLIGHT
BEGIN:STANDARD
TZOFFSETFROM:-0400
TZOFFSETTO:-0500
TZNAME:EST
DTSTART:20271107T060000
END:STANDARD
END:VTIMEZONE
BEGIN:VEVENT
DTSTART;TZID=America/New_York:20260105T180000
DTEND;TZID=America/New_York:20260105T191500
DTSTAMP:20260421T094341
CREATED:20251208T183950Z
LAST-MODIFIED:20251208T203846Z
UID:14780-1767636000-1767640500@www.jenkinsarboretum.org
SUMMARY:Mindful Yoga (1/5 – 2/9)
DESCRIPTION:Take time out of your busy schedule to practice Mindful Yoga.Mindful Yoga MONDAYS | 6-week series: 1/5–2/9 6:00 – 7:15 PM Janet Muti\, Yoga Instructor Our Mindful Yoga practice consists of gentle stretching and strengthening exercises done slowly with awareness of breath and sensations that arise as we move from pose to pose. All levels welcome; modifications and variations will be offered. Bring yoga blocks and straps to use with modifications. This is a HYBRID series—virtual and indoor in-person options. Members: $72/6-week series Non-Members: $102/6-week series
URL:https://www.jenkinsarboretum.org/event/mindful-yoga-1-5-2-9/
LOCATION:Jenkins Arboretum & Gardens\, 631 Berwyn Baptist Road\, Devon\, PA\, 19333\, United States
ATTACH;FMTTYPE=image/jpeg:https://www.jenkinsarboretum.org/wp-content/uploads/2025/12/eefd1a2d3035d9bb0acb28d0285fcc51-4LmNkd.tmp_.jpg
END:VEVENT
BEGIN:VEVENT
DTSTART;TZID=America/New_York:20260108T093000
DTEND;TZID=America/New_York:20260108T104500
DTSTAMP:20260421T094341
CREATED:20251208T184054Z
LAST-MODIFIED:20251208T184054Z
UID:14782-1767864600-1767869100@www.jenkinsarboretum.org
SUMMARY:Mindful Yoga (1/8 – 2/12)
DESCRIPTION:Take time out of your busy schedule to practice Mindful Yoga.\n\n\nMindful Yoga \nTHURSDAYS | 6-week series: 1/8 – 2/12 \n9:30 – 10:45 AM \nJanet Muti\, Yoga Instructor \nOur Mindful Yoga practice consists of gentle stretching and strengthening exercises done slowly with awareness of breath and sensations that arise as we move from pose to pose. \nAll levels welcome; modifications and variations will be offered. Have yoga blocks and straps to use with modifications. \nOur Thursday Morning Mindful Yoga classes will be held virtually. \nMembers: $72/6-week series \nNon-Members: $102/6-week series
URL:https://www.jenkinsarboretum.org/event/mindful-yoga-1-8-2-12-2/
LOCATION:PA
ATTACH;FMTTYPE=image/jpeg:https://www.jenkinsarboretum.org/wp-content/uploads/2025/12/d5ccca01764c96a0335f3a93857cdd13-kG2xOh.tmp_.jpg
END:VEVENT
BEGIN:VEVENT
DTSTART;TZID=America/New_York:20260108T190000
DTEND;TZID=America/New_York:20260108T203000
DTSTAMP:20260421T094341
CREATED:20250606T161300Z
LAST-MODIFIED:20251223T183049Z
UID:14062-1767898800-1767904200@www.jenkinsarboretum.org
SUMMARY:Salt - A Winter Water Conundrum
DESCRIPTION:Explore the impact of salt in the environment\, and steps residents and communities can take to reduce those impacts.\n\n\n\n\n\nTHURSDAY\, JANUARY 8 \n(rescheduled from Thu\, 12/18/25) \nSalt—A Winter Water Conundrum \n7:00–8:30 PM \nKate Hutelmyer\, Water Resources Planner\, Chester County Water Resources Authority \nWhen winter weather hits\, deicers like road salt are typically the first line of defense for public safety. However\, overuse and/or misuse of deicers can create major challenges for our freshwater systems when what’s applied on the land washes into local streams. Explore the impact of salt in the environment\, and steps residents and communities can take to reduce those impacts. \nA partner event with the Tredyffrin Township Environmental Advisory Council and Valley Forge Chapter of Trout Unlimited. \nFree of charge | Virtual event (a Zoom link will be emailed to participants prior to lecture date) \nThis virtual lecture is a part of our Third Thursday Lecture series
URL:https://www.jenkinsarboretum.org/event/salt-a-winter-water-conundrum/
LOCATION:PA
ATTACH;FMTTYPE=image/jpeg:https://www.jenkinsarboretum.org/wp-content/uploads/2025/06/Salt-to-Stream-1.jpg
END:VEVENT
BEGIN:VEVENT
DTSTART;TZID=America/New_York:20260111T143000
DTEND;TZID=America/New_York:20260111T153000
DTSTAMP:20260421T094341
CREATED:20251208T184119Z
LAST-MODIFIED:20251209T171626Z
UID:14785-1768141800-1768145400@www.jenkinsarboretum.org
SUMMARY:Views of the Forest Through the Lens of Music Concert (1/11)
DESCRIPTION:Immerse yourself in classical music with the forest as a visual inspiration!SUNDAY\, JANUARY 11 Views of the Forest Through the Lens of Music Concert 2:30–3:30 PM Gideon Whitehead (guitar) and Ekaterina Skliar (mandolin) Join us for a concert that will immerse you in classical music with the forest as a visual inspiration. A musician meet-and-greet will follow. This concert is a collaboration with Allegro Music Consultants. Click here to view the three-part chamber music series. Members: $35 | Non-Members: $40
URL:https://www.jenkinsarboretum.org/event/views-of-the-forest-through-the-lens-of-music-concert-1-11/
LOCATION:Jenkins Arboretum & Gardens\, 631 Berwyn Baptist Road\, Devon\, PA\, 19333\, United States
ATTACH;FMTTYPE=image/jpeg:https://www.jenkinsarboretum.org/wp-content/uploads/2025/12/Ekaterina-and-Gideon_Jan-Concert-26_Eventbrite.jpg
END:VEVENT
BEGIN:VEVENT
DTSTART;TZID=America/New_York:20260115T190000
DTEND;TZID=America/New_York:20260115T203000
DTSTAMP:20260421T094341
CREATED:20251208T184145Z
LAST-MODIFIED:20251209T172852Z
UID:14787-1768503600-1768509000@www.jenkinsarboretum.org
SUMMARY:Evolution\, Environment\, Drought\, Frost: Insights from Extinct and Living Plants
DESCRIPTION:Explore how fossil records of extinct plants are reshaping our current understanding of plant evolution and major events in Earth history.THURSDAY\, JANUARY 15 Evolution\, Environment\, Drought\, Frost: Insights from Extinct and Living Plants 7:00–8:30 PM Jonathan Wilson\, Ph.D.\, Edward Drinker Cope Professor of Environmental Biology at Haverford College Explore how fossil records of extinct plants are reshaping our current understanding of plant evolution and major events in Earth history\, including the collapse of the Carboniferous Period rainforests more than 300 million years ago. Discover what sets plants apart from other multicellular organisms and how mathematical models applied to fossils can provide insight into plants that have been extinct for hundreds of millions of years. Free of charge | Virtual event (a Zoom link will be emailed to participants prior to lecture date) This virtual lecture is a part of our Third Thursday Lecture series
URL:https://www.jenkinsarboretum.org/event/evolution-environment-drought-frost-insights-from-extinct-living-plants/
LOCATION:PA
ATTACH;FMTTYPE=image/jpeg:https://www.jenkinsarboretum.org/wp-content/uploads/2025/12/Jan-Third-Thursday-Lecture_Eventbrite.jpg
END:VEVENT
BEGIN:VEVENT
DTSTART;TZID=America/New_York:20260118T140000
DTEND;TZID=America/New_York:20260118T160000
DTSTAMP:20260421T094341
CREATED:20260105T233138Z
LAST-MODIFIED:20260105T233141Z
UID:15156-1768744800-1768752000@www.jenkinsarboretum.org
SUMMARY:Opening Reception: Visitors' Photography Exhibition
DESCRIPTION:Join us as we celebrate the opening of our 15th Annual Visitors’ Photography Exhibition. Enjoy light refreshments while hearing from the judges. This reception is free and all are welcome to attend. Registration is not required.
URL:https://www.jenkinsarboretum.org/event/opening-reception-visitors-photography-exhibition-2/
LOCATION:Jenkins Arboretum & Gardens\, 631 Berwyn Baptist Road\, Devon\, PA\, 19333\, United States
ATTACH;FMTTYPE=image/jpeg:https://www.jenkinsarboretum.org/wp-content/uploads/2026/01/2026-Visitors-Photography-Exhibition-.jpg
END:VEVENT
BEGIN:VEVENT
DTSTART;TZID=America/New_York:20260124T100000
DTEND;TZID=America/New_York:20260124T120000
DTSTAMP:20260421T094341
CREATED:20251208T184329Z
LAST-MODIFIED:20251209T173108Z
UID:14794-1769248800-1769256000@www.jenkinsarboretum.org
SUMMARY:Native Seed Propagation
DESCRIPTION:Explore a variety of seed starting techniques for native plants.SATURDAY\, JANUARY 24 Native Seed Propagation 10:00 AM–12:00 PM Max Dupont\, Nursery Production Manager\, Jenkins Arboretum & Gardens It may be cold outdoors\, but it’s time to sow and grow indoors! Explore a variety of seed starting techniques for native plants\, including winter sowing\, leaching\, soaking\, scarification\, and stratification. Get hands-on experience as you sow and take home native seeds collected at Jenkins. Members: $30 | Non-Members: $40
URL:https://www.jenkinsarboretum.org/event/native-seed-propagation-2/
LOCATION:Jenkins Arboretum & Gardens\, 631 Berwyn Baptist Road\, Devon\, PA\, 19333\, United States
ATTACH;FMTTYPE=image/jpeg:https://www.jenkinsarboretum.org/wp-content/uploads/2025/12/Native-Seed-Propagation_Eventbrite-1.jpg
END:VEVENT
BEGIN:VEVENT
DTSTART;TZID=America/New_York:20260124T100000
DTEND;TZID=America/New_York:20260124T130000
DTSTAMP:20260421T094341
CREATED:20251208T184211Z
LAST-MODIFIED:20251209T172834Z
UID:14790-1769248800-1769259600@www.jenkinsarboretum.org
SUMMARY:Vision Board Workshop
DESCRIPTION:Unlock your creativity and set your intentions with a relaxing\, guided vision board workshop.SATURDAY\, JANUARY 24 Vision Board Workshop 10:00 AM–1:00 PM Liz Patterson\, Founder of ProActive Wellness Coaching No dream is too wild. Nothing is off limits! Unlock your creativity and set your intentions with a relaxing\, guided vision board workshop. Through visualization and creative exercises\, design a vision board that helps you clarify your goals and dreams for the coming year. Join us to turn your dreams into tangible\, visual realities\, and step confidently into the future you desire. All materials and tools are provided. Bring an open mind\, and any photographs\, personal items\, or clippings you’d like to include on your board. Members: $55 | Non-Members: $65
URL:https://www.jenkinsarboretum.org/event/vision-board-workshop-2/
LOCATION:Jenkins Arboretum & Gardens\, 631 Berwyn Baptist Road\, Devon\, PA\, 19333\, United States
ATTACH;FMTTYPE=image/jpeg:https://www.jenkinsarboretum.org/wp-content/uploads/2025/12/Vision-Board-Workshop.jpg
END:VEVENT
BEGIN:VEVENT
DTSTART;TZID=America/New_York:20260126T083000
DTEND;TZID=America/New_York:20260126T093000
DTSTAMP:20260421T094341
CREATED:20251208T184414Z
LAST-MODIFIED:20251208T184414Z
UID:14797-1769416200-1769419800@www.jenkinsarboretum.org
SUMMARY:Bird Walk (1/26)
DESCRIPTION:Come birding at Jenkins!\n\n\nMONDAY\, JANUARY 26 \nBird Walk \n8:30–9:30 AM \nBonnie Witmer\, Birder and Visitor Services Associate\, Jenkins Arboretum & Gardens \nGo birding with Bonnie! Search for resident birds in winter\, and explore various habitats including woodland\, pond edge\, and stream-side paths. \nDiscover the GISS method to identify our feathered friends by recognizing the general impression\, size\, and shape of birds. Participants will learn to use their eyes\, ears\, and binoculars to find birds and other wildlife. \nBring binoculars if you have them (we have a few pairs to borrow). Dress for the weather and wear comfortable shoes with good traction. Rain or shine. \nFree of charge
URL:https://www.jenkinsarboretum.org/event/bird-walk-1-26/
LOCATION:Jenkins Arboretum & Gardens\, 631 Berwyn Baptist Road\, Devon\, PA\, 19333\, United States
ATTACH;FMTTYPE=image/jpeg:https://www.jenkinsarboretum.org/wp-content/uploads/2023/06/919673b995fd8e397387b311e89e93e5-yOAbFm.tmp_.jpg
END:VEVENT
END:VCALENDAR