BEGIN:VCALENDAR
VERSION:2.0
PRODID:-//Jenkins Arboretum &amp; Gardens - ECPv6.15.17.1//NONSGML v1.0//EN
CALSCALE:GREGORIAN
METHOD:PUBLISH
X-WR-CALNAME:Jenkins Arboretum &amp; Gardens
X-ORIGINAL-URL:https://www.jenkinsarboretum.org
X-WR-CALDESC:Events for Jenkins Arboretum &amp; Gardens
REFRESH-INTERVAL;VALUE=DURATION:PT1H
X-Robots-Tag:noindex
X-PUBLISHED-TTL:PT1H
BEGIN:VTIMEZONE
TZID:America/New_York
BEGIN:DAYLIGHT
TZOFFSETFROM:-0500
TZOFFSETTO:-0400
TZNAME:EDT
DTSTART:20240310T070000
END:DAYLIGHT
BEGIN:STANDARD
TZOFFSETFROM:-0400
TZOFFSETTO:-0500
TZNAME:EST
DTSTART:20241103T060000
END:STANDARD
BEGIN:DAYLIGHT
TZOFFSETFROM:-0500
TZOFFSETTO:-0400
TZNAME:EDT
DTSTART:20250309T070000
END:DAYLIGHT
BEGIN:STANDARD
TZOFFSETFROM:-0400
TZOFFSETTO:-0500
TZNAME:EST
DTSTART:20251102T060000
END:STANDARD
BEGIN:DAYLIGHT
TZOFFSETFROM:-0500
TZOFFSETTO:-0400
TZNAME:EDT
DTSTART:20260308T070000
END:DAYLIGHT
BEGIN:STANDARD
TZOFFSETFROM:-0400
TZOFFSETTO:-0500
TZNAME:EST
DTSTART:20261101T060000
END:STANDARD
END:VTIMEZONE
BEGIN:VEVENT
DTSTART;TZID=America/New_York:20251201T180000
DTEND;TZID=America/New_York:20251201T191500
DTSTAMP:20260421T043022
CREATED:20250602T132940Z
LAST-MODIFIED:20250602T132940Z
UID:13995-1764612000-1764616500@www.jenkinsarboretum.org
SUMMARY:Mindful Yoga (12/1 - 12/15)
DESCRIPTION:Take time out of your busy schedule to practice Mindful Yoga\n\n\nMindful Yoga \nMONDAYS | 3-week series: 12/1 – 12/15 \n6:00 – 7:15 PM \nJanet Muti\, Yoga Instructor \nOur Mindful Yoga practice consists of gentle stretching and strengthening exercises done slowly with awareness of breath and sensations that arise as we move from pose to pose. \nAll levels welcome; modifications and variations will be offered. Bring yoga blocks and straps to use with modifications. \nMonday Evening Mindful Yoga classes are hybrid—virtual and indoor in-person options. \nMembers: $36/3-week series \nNon-Members: $52/3-week series
URL:https://www.jenkinsarboretum.org/event/mindful-yoga-12-1-12-15/
LOCATION:Jenkins Arboretum & Gardens\, 631 Berwyn Baptist Road\, Devon\, PA\, 19333\, United States
END:VEVENT
BEGIN:VEVENT
DTSTART;TZID=America/New_York:20251204T093000
DTEND;TZID=America/New_York:20251204T104500
DTSTAMP:20260421T043022
CREATED:20250602T133011Z
LAST-MODIFIED:20250602T133011Z
UID:13997-1764840600-1764845100@www.jenkinsarboretum.org
SUMMARY:Mindful Yoga (12/4 - 12/18)
DESCRIPTION:Take time out of your busy schedule to practice Mindful Yoga\n\n\nMindful Yoga \nTHURSDAYS | 3-week series: 12/4 – 12/18 \n9:30 – 10:45 AM \nJanet Muti\, Yoga Instructor \nOur Mindful Yoga practice consists of gentle stretching and strengthening exercises done slowly with awareness of breath and sensations that arise as we move from pose to pose. \nAll levels welcome; modifications and variations will be offered. Bring yoga blocks and straps to use with modifications. \nThursday Morning Mindful Yoga classes will be held virtually. \nMembers: $36/3-week series \nNon-Members: $52/3-week series
URL:https://www.jenkinsarboretum.org/event/mindful-yoga-12-4-12-18/
LOCATION:PA
END:VEVENT
BEGIN:VEVENT
DTSTART;TZID=America/New_York:20251206T100000
DTEND;TZID=America/New_York:20251206T120000
DTSTAMP:20260421T043022
CREATED:20250616T172028Z
LAST-MODIFIED:20250616T172028Z
UID:14109-1765015200-1765022400@www.jenkinsarboretum.org
SUMMARY:Holiday Greens Wreath Workshop
DESCRIPTION:Create a holiday wreath with fresh greens!\n\n\nSATURDAY\, DECEMBER 6 \nHoliday Greens Wreath Workshop \n10:00 AM–12:00 PM \nJenkins Arboretum & Gardens Staff \nBring natural beauty to the holiday season by creating your own festive wreath! Jenkins staff will lead you through the process\, from wire frame to finished wreath using fresh greens. \nAll materials provided\, including a wreath frame\, greens\, natural accents\, and ribbon. \nMembers: $55 | Non-Members: $65
URL:https://www.jenkinsarboretum.org/event/holiday-greens-wreath-workshop-8/
LOCATION:Jenkins Arboretum & Gardens\, 631 Berwyn Baptist Road\, Devon\, PA\, 19333\, United States
ATTACH;FMTTYPE=image/jpeg:https://www.jenkinsarboretum.org/wp-content/uploads/2023/06/02f53b9e4ec31000c0701aab9bb48cc8-1oUOh5.tmp_.jpg
END:VEVENT
BEGIN:VEVENT
DTSTART;TZID=America/New_York:20251206T130000
DTEND;TZID=America/New_York:20251206T150000
DTSTAMP:20260421T043022
CREATED:20250616T172057Z
LAST-MODIFIED:20250616T172057Z
UID:14112-1765026000-1765033200@www.jenkinsarboretum.org
SUMMARY:Holiday Greens Wreath Workshop
DESCRIPTION:Create a holiday wreath with fresh greens!\n\n\nSATURDAY\, DECEMBER 6 \nHoliday Greens Wreath Workshop \n1:00–3:00 PM \nJenkins Arboretum & Gardens Staff \nBring natural beauty to the holiday season by creating your own festive wreath! Jenkins staff will lead you through the process\, from wire frame to finished wreath using fresh greens. \nAll materials provided\, including a wreath frame\, greens\, natural accents\, and ribbon. \nMembers: $55 | Non-Members: $65
URL:https://www.jenkinsarboretum.org/event/holiday-greens-wreath-workshop-9/
LOCATION:Jenkins Arboretum & Gardens\, 631 Berwyn Baptist Road\, Devon\, PA\, 19333\, United States
ATTACH;FMTTYPE=image/jpeg:https://www.jenkinsarboretum.org/wp-content/uploads/2023/06/02f53b9e4ec31000c0701aab9bb48cc8-1oUOh5.tmp_.jpg
END:VEVENT
BEGIN:VEVENT
DTSTART;TZID=America/New_York:20251207T130000
DTEND;TZID=America/New_York:20251207T150000
DTSTAMP:20260421T043022
CREATED:20250616T172110Z
LAST-MODIFIED:20250616T172110Z
UID:14116-1765112400-1765119600@www.jenkinsarboretum.org
SUMMARY:Holiday Greens Wreath Workshop
DESCRIPTION:Create a holiday wreath with fresh greens!\n\n\nSUNDAY\, DECEMBER 7 \nHoliday Greens Wreath Workshop \n1:00–3:00 PM \nJenkins Arboretum & Gardens Staff \nBring natural beauty to the holiday season by creating your own festive wreath! Jenkins staff will lead you through the process\, from wire frame to finished wreath using fresh greens. \nAll materials provided\, including a wreath frame\, greens\, natural accents\, and ribbon. \nMembers: $55 | Non-Members: $65
URL:https://www.jenkinsarboretum.org/event/holiday-greens-wreath-workshop-10/
LOCATION:Jenkins Arboretum & Gardens\, 631 Berwyn Baptist Road\, Devon\, PA\, 19333\, United States
ATTACH;FMTTYPE=image/jpeg:https://www.jenkinsarboretum.org/wp-content/uploads/2023/06/02f53b9e4ec31000c0701aab9bb48cc8-1oUOh5.tmp_.jpg
END:VEVENT
BEGIN:VEVENT
DTSTART;TZID=America/New_York:20251212T170000
DTEND;TZID=America/New_York:20251212T183000
DTSTAMP:20260421T043022
CREATED:20250616T172134Z
LAST-MODIFIED:20251208T203712Z
UID:14120-1765558800-1765564200@www.jenkinsarboretum.org
SUMMARY:Winter Luminary Nights (Fri\, 12/12\, 5 PM)
DESCRIPTION:Join us for winter light and family fun at Jenkins!Winter Luminary Nights Friday\, December 12\, 5:00 – 6:30 PM As the days grow shorter\, we invite you to join us at Jenkins for an evening celebration of winter light. The gardens will be aglow with luminary-lined paths and the warmth of community. A family-friendly event\, not to be missed! $25/Member Car (1 ticket per vehicle) $35/Non-Member Car (1 ticket per vehicle)
URL:https://www.jenkinsarboretum.org/event/winter-luminary-nights-fri-12-12-5-pm/
LOCATION:Jenkins Arboretum & Gardens\, 631 Berwyn Baptist Road\, Devon\, PA\, 19333\, United States
ATTACH;FMTTYPE=image/jpeg:https://www.jenkinsarboretum.org/wp-content/uploads/2023/10/8524296a88a5fb909f5f8e2423eb15eb-cS49Wz.tmp_.jpg
END:VEVENT
BEGIN:VEVENT
DTSTART;TZID=America/New_York:20251212T183000
DTEND;TZID=America/New_York:20251212T200000
DTSTAMP:20260421T043022
CREATED:20250616T172155Z
LAST-MODIFIED:20250616T172155Z
UID:14123-1765564200-1765569600@www.jenkinsarboretum.org
SUMMARY:Winter Luminary Nights (Fri\, 12/12\, 6:30 PM)
DESCRIPTION:Join us for winter light and family fun at Jenkins!\n\n\nWinter Luminary Nights \nFriday\, December 12\, 6:30 – 8:00 PM \nAs the days grow shorter\, we invite you to join us at Jenkins for an evening celebration of winter light. The gardens will be aglow with luminary-lined paths and the warmth of community. A family-friendly event\, not to be missed! \n$25/Member Car (1 ticket per vehicle) \n$35/Non-Member Car (1 ticket per vehicle)
URL:https://www.jenkinsarboretum.org/event/winter-luminary-nights-fri-12-12-630-pm/
LOCATION:Jenkins Arboretum & Gardens\, 631 Berwyn Baptist Road\, Devon\, PA\, 19333\, United States
ATTACH;FMTTYPE=image/jpeg:https://www.jenkinsarboretum.org/wp-content/uploads/2023/10/8524296a88a5fb909f5f8e2423eb15eb-cS49Wz.tmp_.jpg
END:VEVENT
BEGIN:VEVENT
DTSTART;TZID=America/New_York:20251213T170000
DTEND;TZID=America/New_York:20251213T183000
DTSTAMP:20260421T043022
CREATED:20250616T172222Z
LAST-MODIFIED:20250616T172222Z
UID:14126-1765645200-1765650600@www.jenkinsarboretum.org
SUMMARY:Winter Luminary Nights (Sat\, 12/13\, 5 PM)
DESCRIPTION:Join us for winter light and family fun at Jenkins!\n\n\nWinter Luminary Nights \nSaturday\, December 13\, 5:00 – 6:30 PM \nAs the days grow shorter\, we invite you to join us at Jenkins for an evening celebration of winter light. The gardens will be aglow with luminary-lined paths and the warmth of community. A family-friendly event\, not to be missed! \n$25/Member Car (1 ticket per vehicle) \n$35/Non-Member Car (1 ticket per vehicle)
URL:https://www.jenkinsarboretum.org/event/winter-luminary-nights-sat-12-13-5-pm/
LOCATION:Jenkins Arboretum & Gardens\, 631 Berwyn Baptist Road\, Devon\, PA\, 19333\, United States
ATTACH;FMTTYPE=image/jpeg:https://www.jenkinsarboretum.org/wp-content/uploads/2023/10/8524296a88a5fb909f5f8e2423eb15eb-cS49Wz.tmp_.jpg
END:VEVENT
BEGIN:VEVENT
DTSTART;TZID=America/New_York:20251213T183000
DTEND;TZID=America/New_York:20251213T200000
DTSTAMP:20260421T043022
CREATED:20250616T172247Z
LAST-MODIFIED:20251208T202830Z
UID:14129-1765650600-1765656000@www.jenkinsarboretum.org
SUMMARY:Winter Luminary Nights (Sat\, 12/13\, 6:30 PM)
DESCRIPTION:Join us for winter light and family fun at Jenkins!Winter Luminary Nights Saturday\, December 13\, 6:30 – 8:00 PM As the days grow shorter\, we invite you to join us at Jenkins for an evening celebration of winter light. The gardens will be aglow with luminary-lined paths and the warmth of community. A family-friendly event\, not to be missed! $25/Member Car (1 ticket per vehicle) $35/Non-Member Car (1 ticket per vehicle)
URL:https://www.jenkinsarboretum.org/event/winter-luminary-nights-sat-12-13-630-pm/
LOCATION:Jenkins Arboretum & Gardens\, 631 Berwyn Baptist Road\, Devon\, PA\, 19333\, United States
ATTACH;FMTTYPE=image/jpeg:https://www.jenkinsarboretum.org/wp-content/uploads/2023/10/8524296a88a5fb909f5f8e2423eb15eb-cS49Wz.tmp_.jpg
END:VEVENT
BEGIN:VEVENT
DTSTART;TZID=America/New_York:20251216T100000
DTEND;TZID=America/New_York:20251216T110000
DTSTAMP:20260421T043022
CREATED:20250620T140857Z
LAST-MODIFIED:20251209T170941Z
UID:14204-1765879200-1765882800@www.jenkinsarboretum.org
SUMMARY:Celebrate the Season (12/16)
DESCRIPTION:Get cozy as we welcome winter and explore evergreens.TUESDAY\, DECEMBER 16 Celebrate the Season (All Ages) 10:00–11:00 AM Amy Mawby\, Education Manager\, Jenkins Arboretum & Gardens Experience the magic of the changing seasons through stories\, nature exploration\, and a fun craft to take home. Get cozy as we welcome winter and explore evergreens. All ages welcome; most suitable for ages 2+. Children must be accompanied by an adult. Registration required for children only.  Classes will start and end indoors with a short time outdoors\, weather dependent. Members: $10/class | Non-Members: $15/class
URL:https://www.jenkinsarboretum.org/event/celebrate-the-season-12-16/
LOCATION:Jenkins Arboretum & Gardens\, 631 Berwyn Baptist Road\, Devon\, PA\, 19333\, United States
ATTACH;FMTTYPE=image/jpeg:https://www.jenkinsarboretum.org/wp-content/uploads/2025/06/Celebrate-the-Season-Dec.jpg
END:VEVENT
END:VCALENDAR