BEGIN:VCALENDAR
VERSION:2.0
PRODID:-//Jenkins Arboretum &amp; Gardens - ECPv6.15.17.1//NONSGML v1.0//EN
CALSCALE:GREGORIAN
METHOD:PUBLISH
X-WR-CALNAME:Jenkins Arboretum &amp; Gardens
X-ORIGINAL-URL:https://www.jenkinsarboretum.org
X-WR-CALDESC:Events for Jenkins Arboretum &amp; Gardens
REFRESH-INTERVAL;VALUE=DURATION:PT1H
X-Robots-Tag:noindex
X-PUBLISHED-TTL:PT1H
BEGIN:VTIMEZONE
TZID:America/New_York
BEGIN:DAYLIGHT
TZOFFSETFROM:-0500
TZOFFSETTO:-0400
TZNAME:EDT
DTSTART:20220313T070000
END:DAYLIGHT
BEGIN:STANDARD
TZOFFSETFROM:-0400
TZOFFSETTO:-0500
TZNAME:EST
DTSTART:20221106T060000
END:STANDARD
BEGIN:DAYLIGHT
TZOFFSETFROM:-0500
TZOFFSETTO:-0400
TZNAME:EDT
DTSTART:20230312T070000
END:DAYLIGHT
BEGIN:STANDARD
TZOFFSETFROM:-0400
TZOFFSETTO:-0500
TZNAME:EST
DTSTART:20231105T060000
END:STANDARD
BEGIN:DAYLIGHT
TZOFFSETFROM:-0500
TZOFFSETTO:-0400
TZNAME:EDT
DTSTART:20240310T070000
END:DAYLIGHT
BEGIN:STANDARD
TZOFFSETFROM:-0400
TZOFFSETTO:-0500
TZNAME:EST
DTSTART:20241103T060000
END:STANDARD
END:VTIMEZONE
BEGIN:VEVENT
DTSTART;TZID=America/New_York:20230109T180000
DTEND;TZID=America/New_York:20230109T191500
DTSTAMP:20260421T055500
CREATED:20221206T133255Z
LAST-MODIFIED:20221206T170320Z
UID:6700-1673287200-1673291700@www.jenkinsarboretum.org
SUMMARY:Mindful Yoga (1/9 – 2/13)
DESCRIPTION:Take time out of your busy schedule to practice Mindful Yoga.\n\n\nMindful Yoga  \n6-Week Series on Mondays\, January 9 – February 13\, 6 – 7:15 PM  \nJanet Muti\, Yoga Instructor \nIn our busy and stressful lives\, it is important to prioritize mental and physical wellbeing. Our Mindful Hatha Yoga practice will consist of gentle stretching and strengthening exercises done slowly with awareness of breath and sensations that arise as we move from pose to pose. \nAll levels welcome; modifications and variations will be offered. Participants may find yoga blocks and straps beneficial. \nThis Mindful Yoga series may have in-person and virtual options. \nMembers: $72/series | Non-Members: $102/series
URL:https://www.jenkinsarboretum.org/event/mindful-yoga-1-9-2-13/
LOCATION:Jenkins Arboretum & Gardens\, 631 Berwyn Baptist Road\, Devon\, PA\, 19333\, United States
ATTACH;FMTTYPE=image/png:https://www.jenkinsarboretum.org/wp-content/uploads/2022/12/Wellness-7.14.2021-Mindful-Yoga.png
END:VEVENT
BEGIN:VEVENT
DTSTART;TZID=America/New_York:20230112T093000
DTEND;TZID=America/New_York:20230112T104500
DTSTAMP:20260421T055500
CREATED:20221206T133335Z
LAST-MODIFIED:20221206T162922Z
UID:6703-1673515800-1673520300@www.jenkinsarboretum.org
SUMMARY:Mindful Yoga (1/12 – 2/16)
DESCRIPTION:Take time out of your busy schedule to practice Mindful Yoga.\n\n\nMindful Yoga  \n6-Week Series on Thursdays\, January 12 – February 16\, 9:30 – 10:45 AM \nJanet Muti\, Yoga Instructor  \nIn our busy and stressful lives\, it is important to prioritize mental and physical wellbeing. Our Mindful Hatha Yoga practice will consist of gentle stretching and strengthening exercises done slowly with awareness of breath and sensations that arise as we move from pose to pose. \nAll levels welcome; modifications and variations will be offered. Participants may find yoga blocks and straps beneficial. \nThis Mindful Yoga series may have in-person and virtual options. \nMembers: $72/series | Non-Members: $102/series
URL:https://www.jenkinsarboretum.org/event/mindful-yoga-1-12-2-16/
LOCATION:PA
ATTACH;FMTTYPE=image/png:https://www.jenkinsarboretum.org/wp-content/uploads/2022/12/Wellness-Yoga.png
END:VEVENT
BEGIN:VEVENT
DTSTART;TZID=America/New_York:20230115T143000
DTEND;TZID=America/New_York:20230115T153000
DTSTAMP:20260421T055500
CREATED:20221206T135812Z
LAST-MODIFIED:20221206T162600Z
UID:6783-1673793000-1673796600@www.jenkinsarboretum.org
SUMMARY:Nature’s Impact on Music: Woods of the Forest
DESCRIPTION:Enjoy a classical concert at Jenkins\n\n\nNature’s Impact on Music: Woods of the Forest \nSunday\, January 15\, 2:30 – 3:30 PM \nClancy Newman (cello) and Jordan Dodson (guitar) \nExplore the connection between wood and instruments while enjoying the soothing sounds of strings. \nJoin us for a three-part chamber music series that will highlight the impact and inspiration of nature on classical music. Each performance will feature a different musical group with a thematic explanation from the musicians. This series is a collaboration between Jenkins Arboretum & Gardens and Allegro Music Consultants. Click here to view the series. \nMembers: $25 | Non-Members: $30
URL:https://www.jenkinsarboretum.org/event/natures-impact-on-music-woods-of-the-forest/
LOCATION:Jenkins Arboretum & Gardens\, 631 Berwyn Baptist Road\, Devon\, PA\, 19333\, United States
ATTACH;FMTTYPE=image/jpeg:https://www.jenkinsarboretum.org/wp-content/uploads/2022/12/4e36f785c012ab4938c575c115c8a2a2-dTmDFA.tmp_.jpg
END:VEVENT
BEGIN:VEVENT
DTSTART;TZID=America/New_York:20230119T190000
DTEND;TZID=America/New_York:20230119T203000
DTSTAMP:20260421T055500
CREATED:20221206T133432Z
LAST-MODIFIED:20221206T133432Z
UID:6706-1674154800-1674160200@www.jenkinsarboretum.org
SUMMARY:The Scientific Benefit of Trees for Livable and Sustainable Communities
DESCRIPTION:Discover the benefits of trees and how investing in trees is an investment in a better world\n\n\nThe Scientific Benefit of Trees for Livable and Sustainable Communities \nThursday\, January 19\, 7 – 8:30 PM \nJessica B. Turner-Skoff\, PhD\, Science Communication Leader\, The Morton Arboretum \nThe scientific literature is clear: in addition to supporting critical habitat and ecosystem processes\, trees can improve people’s physical\, mental\, and social well-being. An effective strategy to enhance people’s lives is to plant and protect trees\, especially in cities. This talk will take a deep dive into the research and demonstrate how trees can help support 15 of the United Nations’ 17 Sustainable Development Goals. Hear the overwhelming evidence on the benefits of trees and discover how investing in trees is an investment in a better world. \nFree of charge | Virtual event \nThis virtual lecture is a part of our Third Thursday Lecture series
URL:https://www.jenkinsarboretum.org/event/the-scientific-benefit-of-trees-for-livable-and-sustainable-communities/
LOCATION:PA
ATTACH;FMTTYPE=image/jpeg:https://www.jenkinsarboretum.org/wp-content/uploads/2022/12/1dbf23f3f193411110c686e65429742b-CYBaBk.tmp_.jpg
END:VEVENT
BEGIN:VEVENT
DTSTART;TZID=America/New_York:20230122T140000
DTEND;TZID=America/New_York:20230122T160000
DTSTAMP:20260421T055500
CREATED:20221206T171314Z
LAST-MODIFIED:20221206T180653Z
UID:6814-1674396000-1674403200@www.jenkinsarboretum.org
SUMMARY:Opening Reception for 12th Annual Visitors' Photography Exhibition
DESCRIPTION:On View: January 14 – March 26\, 2023\, from 9 AM – 4 PMOpening Reception: Sunday\, January 22\, 2023\, from 2 – 4 PM. All are welcome. \n\n\n\nAbout the Exhibition:Join us to see Jenkins through our visitors’ eyes! This collection of photography is a celebration of the relationship between the gardens and the people who enjoy them. Each visitor has a unique experience in the gardens\, perspective of the landscape\, and relationship with Jenkins. These photographs capture many of those intimate moments between Jenkins and its visitors.⁠ ⁠
URL:https://www.jenkinsarboretum.org/event/opening-reception-for-12th-annual-visitors-photography-exhibition/
LOCATION:Jenkins Arboretum & Gardens\, 631 Berwyn Baptist Road\, Devon\, PA\, 19333\, United States
ATTACH;FMTTYPE=image/png:https://www.jenkinsarboretum.org/wp-content/uploads/2022/12/Home-Page-Sliding-Photo-Album-43.png
END:VEVENT
BEGIN:VEVENT
DTSTART;TZID=America/New_York:20230123T090000
DTEND;TZID=America/New_York:20230123T100000
DTSTAMP:20260421T055500
CREATED:20221206T133504Z
LAST-MODIFIED:20221206T133504Z
UID:6710-1674464400-1674468000@www.jenkinsarboretum.org
SUMMARY:Bird Walk
DESCRIPTION:Come birding with Bonnie!\n\n\nBird Walk\n \nMonday\, January 23\, 9 – 10 AM\n \n \nBonnie Witmer\, Birder and Visitor Services Associate\, Jenkins Arboretum & Gardens\n \nCome birding with Bonnie! Search for resident birds in winter and explore various habitats including woodland\, pond edge\, and stream-side paths. Discover the GISS method to identify our feathered friends by recognizing the general impression\, size\, and shape of birds. Participants will learn to use their eyes\, ears\, and binoculars to find birds and other wildlife.\n \nBring binoculars if you have them. Dress for the weather and wear comfortable shoes with good traction. Rain or shine.\n \nFree of charge\n \n \nSpring Bird Walk: 4/24 | 8 – 9 AM
URL:https://www.jenkinsarboretum.org/event/bird-walk-3/
LOCATION:Jenkins Arboretum & Gardens\, 631 Berwyn Baptist Road\, Devon\, PA\, 19333\, United States
ATTACH;FMTTYPE=image/jpeg:https://www.jenkinsarboretum.org/wp-content/uploads/2022/12/f6030c306f2bd1e3794d2c37b14c2f64-syaAQH.tmp_.jpg
END:VEVENT
BEGIN:VEVENT
DTSTART;TZID=America/New_York:20230125T100000
DTEND;TZID=America/New_York:20230125T120000
DTSTAMP:20260421T055500
CREATED:20221206T133543Z
LAST-MODIFIED:20221206T133543Z
UID:6714-1674640800-1674648000@www.jenkinsarboretum.org
SUMMARY:Painting & Drawing for Adults
DESCRIPTION:Take some time out for you and explore your creative side!\n\n\nPainting & Drawing for Adults \nWednesday\, January 25\, 10 AM – 12 PM \nNicola Loughlin\, Owner and Artist\, Entwined-Action \nEmbrace your inner artist with guided classes that introduce the essentials of Fine Art. Practice with the following mediums: acrylics\, watercolor\, graphite\, charcoal\, and pastels. Beginning with the fundamentals of painting\, you will learn to explore bright and uplifting tones\, discuss ideas\, and develop a personal style. A fantastic way to take some time out for you and explore your creative side. \nWith individual guidance\, this class welcomes all levels and abilities. All materials included. \nMembers: $35 | Non-Members: $40
URL:https://www.jenkinsarboretum.org/event/painting-drawing-for-adults/
LOCATION:Jenkins Arboretum & Gardens\, 631 Berwyn Baptist Road\, Devon\, PA\, 19333\, United States
ATTACH;FMTTYPE=image/jpeg:https://www.jenkinsarboretum.org/wp-content/uploads/2022/12/89e82ee8b56719f47b6a371d1691349f-6tD6Jw.tmp_.jpg
END:VEVENT
BEGIN:VEVENT
DTSTART;TZID=America/New_York:20230128T100000
DTEND;TZID=America/New_York:20230128T120000
DTSTAMP:20260421T055500
CREATED:20221206T133605Z
LAST-MODIFIED:20221206T162850Z
UID:6718-1674900000-1674907200@www.jenkinsarboretum.org
SUMMARY:Native Seed Propagation
DESCRIPTION:Explore a variety of seed starting techniques for native plants\n\n\nNative Seed Propagation\n \nSaturday\, January 28\, 10 AM – 12 PM\n \nHelen Standen\, Nursery and Greenhouse Manager\, Jenkins Arboretum & Gardens\n \nIt may be cold outside\, but it’s time to sow and grow! Explore a variety of seed starting techniques for native plants\, including winter sowing\, leaching\, soaking\, scarification\, and stratification. Participants will create their own milk jug greenhouse and sow seeds to take home utilizing the techniques covered.\n \nMembers: $25 | Non-Members: $35
URL:https://www.jenkinsarboretum.org/event/native-seed-propagation/
LOCATION:Jenkins Arboretum & Gardens\, 631 Berwyn Baptist Road\, Devon\, PA\, 19333\, United States
ATTACH;FMTTYPE=image/jpeg:https://www.jenkinsarboretum.org/wp-content/uploads/2022/12/how-to-harvest-milkweed-seeds-1024x683-1.jpg
END:VEVENT
BEGIN:VEVENT
DTSTART;TZID=America/New_York:20230129T130000
DTEND;TZID=America/New_York:20230129T140000
DTSTAMP:20260421T055500
CREATED:20221206T133640Z
LAST-MODIFIED:20221206T133640Z
UID:6721-1674997200-1675000800@www.jenkinsarboretum.org
SUMMARY:Longevity: It’s Not Just Genetics
DESCRIPTION:Make the connection between health outcomes and how you live\, love\, and move!\n\n\nLongevity: It’s Not Just Genetics\n \nSunday\, January 29\, 1– 2 PM\n \nDr. Ayanna S. Kersey-McMullen\, Owner/Operator\, ASKM Enterprises\, LLC\n \nMake the connection between health outcomes and how you live\, love\, and move! Join us for a discussion about current health trends in the US and what we can learn from the longest living populations across the globe about how to achieve longevity. Explore the key lessons of these populations; think about how they can apply to our lives; and identify and dispel limiting behaviors and ideas around what it means to be “healthy.”  \nThis virtual lecture includes an informative presentation\, an activity for participants\, and time for questions.\n \nDr. Ayanna S. Kersey-McMullen is a Physician Leader with board certifications in Physical Medicine and Rehabilitation and Lifestyle Medicine. She is the owner of ASKM Enterprises\, LLC\, a health and wellness consulting company\, as well as the Medical Director for the Stroke Rehabilitation and Integrative Wellness Program at Good Shepherd Rehabilitation Hospital\, Allentown\, PA.\n \nMembers: $15 | Non-Members: $25 | Virtual event
URL:https://www.jenkinsarboretum.org/event/longevity-its-not-just-genetics/
LOCATION:PA
ATTACH;FMTTYPE=image/jpeg:https://www.jenkinsarboretum.org/wp-content/uploads/2022/12/09cd3153f37a1771a0bb38d8f28484aa-EgNuGV.tmp_.jpg
END:VEVENT
END:VCALENDAR