BEGIN:VCALENDAR
VERSION:2.0
PRODID:-//Jenkins Arboretum &amp; Gardens - ECPv6.15.17.1//NONSGML v1.0//EN
CALSCALE:GREGORIAN
METHOD:PUBLISH
X-ORIGINAL-URL:https://www.jenkinsarboretum.org
X-WR-CALDESC:Events for Jenkins Arboretum &amp; Gardens
REFRESH-INTERVAL;VALUE=DURATION:PT1H
X-Robots-Tag:noindex
X-PUBLISHED-TTL:PT1H
BEGIN:VTIMEZONE
TZID:America/New_York
BEGIN:DAYLIGHT
TZOFFSETFROM:-0500
TZOFFSETTO:-0400
TZNAME:EDT
DTSTART:20210314T070000
END:DAYLIGHT
BEGIN:STANDARD
TZOFFSETFROM:-0400
TZOFFSETTO:-0500
TZNAME:EST
DTSTART:20211107T060000
END:STANDARD
BEGIN:DAYLIGHT
TZOFFSETFROM:-0500
TZOFFSETTO:-0400
TZNAME:EDT
DTSTART:20220313T070000
END:DAYLIGHT
BEGIN:STANDARD
TZOFFSETFROM:-0400
TZOFFSETTO:-0500
TZNAME:EST
DTSTART:20221106T060000
END:STANDARD
BEGIN:DAYLIGHT
TZOFFSETFROM:-0500
TZOFFSETTO:-0400
TZNAME:EDT
DTSTART:20230312T070000
END:DAYLIGHT
BEGIN:STANDARD
TZOFFSETFROM:-0400
TZOFFSETTO:-0500
TZNAME:EST
DTSTART:20231105T060000
END:STANDARD
END:VTIMEZONE
BEGIN:VEVENT
DTSTART;TZID=America/New_York:20221102T130000
DTEND;TZID=America/New_York:20221102T140000
DTSTAMP:20260421T085445
CREATED:20220622T200719Z
LAST-MODIFIED:20220622T200719Z
UID:5851-1667394000-1667397600@www.jenkinsarboretum.org
SUMMARY:Wednesday Walkabouts
DESCRIPTION:Get outside and discover Jenkins with us!
URL:https://www.jenkinsarboretum.org/event/wednesday-walkabouts-55/
LOCATION:Jenkins Arboretum & Gardens\, 631 Berwyn Baptist Road\, Devon\, PA\, 19333\, United States
ATTACH;FMTTYPE=image/jpeg:https://www.jenkinsarboretum.org/wp-content/uploads/2022/06/30dc4076166eb3ffa60a93b57d930681-KxC2OF.tmp_.jpg
END:VEVENT
BEGIN:VEVENT
DTSTART;TZID=America/New_York:20221104T180000
DTEND;TZID=America/New_York:20221105T130000
DTSTAMP:20260421T085445
CREATED:20220622T204328Z
LAST-MODIFIED:20220622T204328Z
UID:6036-1667584800-1667653200@www.jenkinsarboretum.org
SUMMARY:Fall Color Photography Workshop
DESCRIPTION:Join us for a two-day photography class focused on fall foliage!\n\n\nFall Color Photography Workshop\n \nA two-day class: Friday\, November 4\, 6:00 – 8:30 pm and Saturday\, November 5\, 8:00 am – 1:00 pm\n \nPresented by Laura Ducceschi\, Fine Art Photographer\n \n \nDo you love fall foliage but can’t seem to get the colors to translate into the perfect photo? Special strategies are needed to enable cameras to capture the rich and saturated tones that take our breath away when in an autumnal setting. Award-winning photographer Laura Ducceschi will illustrate some of the challenges and solutions to creating impactful photographs of fall color\, including equipment\, camera settings\, lighting and composition. Friday evening begins with indoor instruction\, preparing for shooting out in the gardens on Saturday morning. The class will wrap up with a chance to share images from the morning.\n \n \nParticipants need to bring their own camera with which they have some familiarity. Cameras with interchangeable lenses will have the features needed to take full advantage of the class. Bring a fully charged battery and a camera card with space to shoot freely. Tripods are recommended. Some activities are not applicable to point-and-shoot cameras.\n \n \nMembers: $70; Non-Members: $80
URL:https://www.jenkinsarboretum.org/event/fall-color-photography-workshop/
LOCATION:Jenkins Arboretum & Gardens\, 631 Berwyn Baptist Road\, Devon\, PA\, 19333\, United States
ATTACH;FMTTYPE=image/jpeg:https://www.jenkinsarboretum.org/wp-content/uploads/2022/06/6f9ea0dfa2758b75b727348322b32751-7jW828.tmp_.jpg
END:VEVENT
BEGIN:VEVENT
DTSTART;TZID=America/New_York:20221106T140000
DTEND;TZID=America/New_York:20221106T153000
DTSTAMP:20260421T085445
CREATED:20220622T204356Z
LAST-MODIFIED:20220622T204356Z
UID:6039-1667743200-1667748600@www.jenkinsarboretum.org
SUMMARY:Hamilton Educational Fellowship Symposium
DESCRIPTION:Learn more about our Hamilton Educational Fellowship experience\n\n\nHamilton Educational Fellowship Symposium \nSunday\, November 6\, 2:00 – 3:30 pm \nPresented by current and former Hamilton Educational Fellows \nThe Hamilton Educational Fellowship provides an immersive learning experience in the unparalleled setting of Jenkins Arboretum & Gardens. Join us for a virtual symposium to explore this well-respected program and discover more about the specialized projects of the current Fellows. Hear from a former Fellow about their journey and how the skills and knowledge acquired during the program benefitted them in their career path. There will be time at the end for a panel Q&A. \nFree of charge; registration for this virtual event is required.
URL:https://www.jenkinsarboretum.org/event/hamilton-educational-fellowship-symposium-2/
LOCATION:PA
ATTACH;FMTTYPE=image/jpeg:https://www.jenkinsarboretum.org/wp-content/uploads/2022/06/9b1f6bee1be5bfdc849fbe8a9845eff2-00e41L.tmp_.jpg
END:VEVENT
BEGIN:VEVENT
DTSTART;TZID=America/New_York:20221109T130000
DTEND;TZID=America/New_York:20221109T140000
DTSTAMP:20260421T085445
CREATED:20220705T140447Z
LAST-MODIFIED:20220705T140447Z
UID:6133-1667998800-1668002400@www.jenkinsarboretum.org
SUMMARY:Wednesday Walkabouts
DESCRIPTION:Get outside and discover Jenkins with us!\n\n\nWednesday Walkabouts\n \nEvery Wednesday\, July 6 – November 16\, 1:00 – 2:00 pm\n \nLed by Jenkins Arboretum & Gardens Staff\n \n \nJoin us on Wednesday afternoons this summer and fall as we celebrate the change of seasons. Jenkins’ staff will lead you on in-person tours through the garden featuring our robust botanical collections. Each week will have a different focus\, depending on the seasonal landscape and the staff leader. Topics could include summer wildflowers\, pollinators\, fruits & berries\, fall foliage\, or native trees and shrubs. \nNOTE: Large groups are requested to schedule private guided tours at other times. \n \nFree of charge
URL:https://www.jenkinsarboretum.org/event/wednesday-walkabouts-58/
LOCATION:Jenkins Arboretum & Gardens\, 631 Berwyn Baptist Road\, Devon\, PA\, 19333\, United States
ATTACH;FMTTYPE=image/jpeg:https://www.jenkinsarboretum.org/wp-content/uploads/2022/06/30dc4076166eb3ffa60a93b57d930681-KxC2OF.tmp_.jpg
END:VEVENT
BEGIN:VEVENT
DTSTART;TZID=America/New_York:20221112T100000
DTEND;TZID=America/New_York:20221112T120000
DTSTAMP:20260421T085445
CREATED:20220622T204420Z
LAST-MODIFIED:20220622T204420Z
UID:6043-1668247200-1668254400@www.jenkinsarboretum.org
SUMMARY:Macramé Workshop
DESCRIPTION:Join us for a morning of knot tying!\n\n\nMacramé Workshop \n \nSaturday\, November 12\, 10:00 am – 12:00 pm\n \nPresented by Tara Spears\, Curatorial Assistant\, Jenkins Arboretum & Gardens\n \n \nJoin us for a morning of knot tying! Join Tara Spears to discover the fun and beauty of macramé and learn a few basic knots to make a plant hanger. Participants are welcome to bring along any plant\, special pot\, small terrarium\, or vase to incorporate into their design. Houseplants will be available for sale at Jenkins in The Garden Shop. All macramé materials are provided and all skill levels are welcome.\n \n \nMembers: $30; Non-Members: $40
URL:https://www.jenkinsarboretum.org/event/macrame-workshop-3/
LOCATION:Jenkins Arboretum & Gardens\, 631 Berwyn Baptist Road\, Devon\, PA\, 19333\, United States
ATTACH;FMTTYPE=image/jpeg:https://www.jenkinsarboretum.org/wp-content/uploads/2022/06/6df2a7c0f0e623eb0babb41e4cc91db6-ixTmOq.tmp_.jpg
END:VEVENT
BEGIN:VEVENT
DTSTART;TZID=America/New_York:20221113T130000
DTEND;TZID=America/New_York:20221113T150000
DTSTAMP:20260421T085445
CREATED:20220622T204447Z
LAST-MODIFIED:20220622T204447Z
UID:6047-1668344400-1668351600@www.jenkinsarboretum.org
SUMMARY:Plan and Plant
DESCRIPTION:Discover the parts of a garden and how to design yours\n\n\nPlan and Plant\n \nSunday\, November 13\, 1:00 – 3:00 pm\n \nPresented by Karen Flick\, Head Horticulturist\, Jenkins Arboretum & Gardens\n \n \nAre you a home gardener with questions? Join Karen Flick to gain a deeper understanding of your landscape in order to have a healthy\, successful garden. Key aspects which influence a landscape include sunlight\, soil types\, moisture\, space considerations and more. These all aid in selecting the right plants for the right location. Explore the various parts of a garden and learn tips for how you can determine this in your own garden and create a landscape plan.\n \n \nMembers: $25; Non-Members: $35
URL:https://www.jenkinsarboretum.org/event/plan-and-plant/
LOCATION:Jenkins Arboretum & Gardens\, 631 Berwyn Baptist Road\, Devon\, PA\, 19333\, United States
ATTACH;FMTTYPE=image/jpeg:https://www.jenkinsarboretum.org/wp-content/uploads/2022/06/0dd2a5f5f117cfb018078dee6d845bc5-cfFByd.tmp_.jpg
END:VEVENT
BEGIN:VEVENT
DTSTART;TZID=America/New_York:20221116T130000
DTEND;TZID=America/New_York:20221116T140000
DTSTAMP:20260421T085445
CREATED:20220705T140542Z
LAST-MODIFIED:20220705T140946Z
UID:6135-1668603600-1668607200@www.jenkinsarboretum.org
SUMMARY:Wednesday Walkabouts
DESCRIPTION:Get outside and discover Jenkins with us!\n\n\nWednesday Walkabouts\n \nEvery Wednesday\, July 6 – November 16\, 1:00 – 2:00 pm\n \nLed by Jenkins Arboretum & Gardens Staff\n \n \nJoin us on Wednesday afternoons this summer and fall as we celebrate the change of seasons. Jenkins’ staff will lead you on in-person tours through the garden featuring our robust botanical collections. Each week will have a different focus\, depending on the seasonal landscape and the staff leader. Topics could include summer wildflowers\, pollinators\, fruits & berries\, fall foliage\, or native trees and shrubs. \nNOTE: Large groups are requested to schedule private guided tours at other times. \n \nFree of charge
URL:https://www.jenkinsarboretum.org/event/wednesday-walkabouts-59/
LOCATION:Jenkins Arboretum & Gardens\, 631 Berwyn Baptist Road\, Devon\, PA\, 19333\, United States
ATTACH;FMTTYPE=image/jpeg:https://www.jenkinsarboretum.org/wp-content/uploads/2022/06/30dc4076166eb3ffa60a93b57d930681-KxC2OF.tmp_.jpg
END:VEVENT
BEGIN:VEVENT
DTSTART;TZID=America/New_York:20221117T190000
DTEND;TZID=America/New_York:20221117T203000
DTSTAMP:20260421T085445
CREATED:20220622T204513Z
LAST-MODIFIED:20220622T204513Z
UID:6050-1668711600-1668717000@www.jenkinsarboretum.org
SUMMARY:Owls of the Mid-Atlantic States
DESCRIPTION:Explore the habits and habitats of eight species of owls\n\n\nOwls of the Mid-Atlantic States \nThursday\, November 17\, 7:00 – 8:30 PM  \nPresented by Jim White\, Senior Fellow for Land and Biodiversity Management\, Delaware Nature Society \nFrom early human cultures to modern birders\, owls have always held our fascination. Join naturalist and photographer Jim White to explore the fascinating natural history of the owls of the Mid-Atlantic. Explore the habits and habitats of eight species of owls that can be found in our area. Learn how to identify them by sight and sound and where to observe our common and not-so-common species.  \nFree of charge; registration is required.  \nThis lecture is also part of our monthly Third Thursday Lecture Series. All lectures will be held virtually and a link will be emailed to registered participants prior to each program date.
URL:https://www.jenkinsarboretum.org/event/owls-of-the-mid-atlantic-states/
LOCATION:PA
ATTACH;FMTTYPE=image/jpeg:https://www.jenkinsarboretum.org/wp-content/uploads/2022/06/5b26c76f1bf6bb3b891764ae9a5a2083-uXcytU.tmp_.jpg
END:VEVENT
BEGIN:VEVENT
DTSTART;TZID=America/New_York:20221119T090000
DTEND;TZID=America/New_York:20221119T110000
DTSTAMP:20260421T085445
CREATED:20220622T204541Z
LAST-MODIFIED:20220622T210932Z
UID:6054-1668848400-1668855600@www.jenkinsarboretum.org
SUMMARY:Photo Walk
DESCRIPTION:Join us to capture seasonal beauty at Jenkins!\n\n\nPhoto Walk \nSaturday\, November 19\, 9:00 – 11:00 am \n(Rain date: Sunday\, November 20) \nPresented by Laura Ducceschi\, Fine Art Photographer \nJoin us to shoot the season! Award-winning photographer Laura Ducceschi will be your mentor and guide for these monthly small group sessions. Stroll the gardens and photograph what inspires you\, while learning various compositional and technical options on the spot. \nParticipants will need to bring a camera\, a fully charged battery\, and a camera card with space to shoot freely. Photographers with any kind of camera can benefit\, but DSLRs are recommended. \nMembers: $15/walk; Non-Members: $20/walk \n \nPhoto Walks will take place on the following Third Saturdays:  \nSept. 17\, Oct. 15\, Nov. 19 and Dec. 17\, 9:00 – 11:00 am \n(Rain dates: Third Sundays\, Sept. 18\, Oct. 16\, Nov. 20 and Dec. 18)
URL:https://www.jenkinsarboretum.org/event/photo-walk-13/
LOCATION:Jenkins Arboretum & Gardens\, 631 Berwyn Baptist Road\, Devon\, PA\, 19333\, United States
ATTACH;FMTTYPE=image/jpeg:https://www.jenkinsarboretum.org/wp-content/uploads/2022/06/51173461762_710f71214d_o_resize-crop.jpg
END:VEVENT
BEGIN:VEVENT
DTSTART;TZID=America/New_York:20221123T093000
DTEND;TZID=America/New_York:20221123T110000
DTSTAMP:20260421T085445
CREATED:20220622T204620Z
LAST-MODIFIED:20220622T204620Z
UID:6057-1669195800-1669201200@www.jenkinsarboretum.org
SUMMARY:Gratitude Practice - Yoga & Meditation
DESCRIPTION:Take time to be thankful with a rejuvenating morning practice!\n\n\nGratitude Practice – Yoga & Meditation\n \nWednesday\, November 23\, 9:30 – 11:00 am\n \nPresented by Janet Muti\, Yoga Instructor\n \n \nTake time to be thankful with a rejuvenating morning practice! Discover ways to express gratitude in your life\, as well as on the mat. Begin with a brief meditation\, transition through a series of yoga poses and bring it all together with a longer meditation at the end. All levels are welcome. Modifications and variations are always offered. Our Gratitude Practice will be held virtually.\n \n \nMembers: $20; Non-Members: $30
URL:https://www.jenkinsarboretum.org/event/gratitude-practice-yoga-meditation/
LOCATION:PA
ATTACH;FMTTYPE=image/jpeg:https://www.jenkinsarboretum.org/wp-content/uploads/2022/06/8604afe964f485b2e6851b97b7b6586d-Bu5qMz.tmp_.jpg
END:VEVENT
END:VCALENDAR