BEGIN:VCALENDAR
VERSION:2.0
PRODID:-//Jenkins Arboretum &amp; Gardens - ECPv6.15.17.1//NONSGML v1.0//EN
CALSCALE:GREGORIAN
METHOD:PUBLISH
X-ORIGINAL-URL:https://www.jenkinsarboretum.org
X-WR-CALDESC:Events for Jenkins Arboretum &amp; Gardens
REFRESH-INTERVAL;VALUE=DURATION:PT1H
X-Robots-Tag:noindex
X-PUBLISHED-TTL:PT1H
BEGIN:VTIMEZONE
TZID:America/New_York
BEGIN:DAYLIGHT
TZOFFSETFROM:-0500
TZOFFSETTO:-0400
TZNAME:EDT
DTSTART:20210314T070000
END:DAYLIGHT
BEGIN:STANDARD
TZOFFSETFROM:-0400
TZOFFSETTO:-0500
TZNAME:EST
DTSTART:20211107T060000
END:STANDARD
BEGIN:DAYLIGHT
TZOFFSETFROM:-0500
TZOFFSETTO:-0400
TZNAME:EDT
DTSTART:20220313T070000
END:DAYLIGHT
BEGIN:STANDARD
TZOFFSETFROM:-0400
TZOFFSETTO:-0500
TZNAME:EST
DTSTART:20221106T060000
END:STANDARD
BEGIN:DAYLIGHT
TZOFFSETFROM:-0500
TZOFFSETTO:-0400
TZNAME:EDT
DTSTART:20230312T070000
END:DAYLIGHT
BEGIN:STANDARD
TZOFFSETFROM:-0400
TZOFFSETTO:-0500
TZNAME:EST
DTSTART:20231105T060000
END:STANDARD
END:VTIMEZONE
BEGIN:VEVENT
DTSTART;TZID=America/New_York:20220302T100000
DTEND;TZID=America/New_York:20220302T103000
DTSTAMP:20260421T072905
CREATED:20211208T163737Z
LAST-MODIFIED:20211208T163737Z
UID:4911-1646215200-1646217000@www.jenkinsarboretum.org
SUMMARY:Storytime (All Ages)
DESCRIPTION:Join us for a fun morning out at Jenkins!
URL:https://www.jenkinsarboretum.org/event/storytime-all-ages-2/
LOCATION:Jenkins Arboretum & Gardens\, 631 Berwyn Baptist Road\, Devon\, PA\, 19333\, United States
ATTACH;FMTTYPE=image/jpeg:https://www.jenkinsarboretum.org/wp-content/uploads/2021/12/74f980efdd7ca511325740402b519301-iP9lKo.tmp_.jpg
END:VEVENT
BEGIN:VEVENT
DTSTART;TZID=America/New_York:20220312T100000
DTEND;TZID=America/New_York:20220312T113000
DTSTAMP:20260421T072905
CREATED:20211220T142242Z
LAST-MODIFIED:20211220T142242Z
UID:4944-1647079200-1647084600@www.jenkinsarboretum.org
SUMMARY:Handmade Gemstone Bracelets
DESCRIPTION:Create your own unique gemstone bracelet.
URL:https://www.jenkinsarboretum.org/event/handmade-gemstone-bracelets/
LOCATION:Jenkins Arboretum & Gardens\, 631 Berwyn Baptist Road\, Devon\, PA\, 19333\, United States
ATTACH;FMTTYPE=image/jpeg:https://www.jenkinsarboretum.org/wp-content/uploads/2021/12/bfcbe791c24c0d0c25c2bcfb5100fb91-6ct4KS.tmp_.jpg
END:VEVENT
BEGIN:VEVENT
DTSTART;TZID=America/New_York:20220312T123000
DTEND;TZID=America/New_York:20220312T140000
DTSTAMP:20260421T072905
CREATED:20211220T142244Z
LAST-MODIFIED:20211220T142244Z
UID:4947-1647088200-1647093600@www.jenkinsarboretum.org
SUMMARY:Handmade Gemstone Bracelets
DESCRIPTION:Create your own unique gemstone bracelet.
URL:https://www.jenkinsarboretum.org/event/handmade-gemstone-bracelets-2/
LOCATION:Jenkins Arboretum & Gardens\, 631 Berwyn Baptist Road\, Devon\, PA\, 19333\, United States
ATTACH;FMTTYPE=image/jpeg:https://www.jenkinsarboretum.org/wp-content/uploads/2021/12/bfcbe791c24c0d0c25c2bcfb5100fb91-ENR3I4.tmp_.jpg
END:VEVENT
BEGIN:VEVENT
DTSTART;TZID=America/New_York:20220317T190000
DTEND;TZID=America/New_York:20220317T203000
DTSTAMP:20260421T072905
CREATED:20211220T142314Z
LAST-MODIFIED:20211220T142314Z
UID:4950-1647543600-1647549000@www.jenkinsarboretum.org
SUMMARY:Let it Be an Oak
DESCRIPTION:Join us for a talk by Doug Tallamy\, the author of The Nature of Oaks.\n\n\nLet it Be an Oak\n \nThursday\, March 17\, 7:00 – 8:30 pm\n \nPresented by Doug Tallamy\, Ph.D.\, author\, entomologist\, and University of Delaware professor\n \nOnce we have decided to restore the ecological integrity of our suburban neighborhoods\, we need to decide what plants to add to our properties. Oaks are superior trees for suburban restoration projects because of their many ecological and aesthetic attributes. Doug Tallamy will compare oak species to other popular shade trees in terms of their ability to support animal diversity\, protect watersheds\, sequester carbon dioxide\, and restore lost plant communities.\n \nFree of charge; registration is required.  \n \nThis lecture is a part of our monthly Third Thursday Lecture Series. All lectures will be held virtually and a link will be emailed to registered participants prior to each program date.
URL:https://www.jenkinsarboretum.org/event/let-it-be-an-oak/
LOCATION:PA
ATTACH;FMTTYPE=image/jpeg:https://www.jenkinsarboretum.org/wp-content/uploads/2021/12/2251bb321a3d480ceafbd05df57495c7-SV1kAY.tmp_.jpg
END:VEVENT
BEGIN:VEVENT
DTSTART;TZID=America/New_York:20220319T090000
DTEND;TZID=America/New_York:20220319T110000
DTSTAMP:20260421T072905
CREATED:20211220T142339Z
LAST-MODIFIED:20211220T142339Z
UID:4954-1647680400-1647687600@www.jenkinsarboretum.org
SUMMARY:Photo Walk
DESCRIPTION:Join us to capture seasonal beauty at Jenkins!\n\n\nPhoto Walk \n \nSaturday\, March 19\, 9:00 – 11:00 am \n \n(Rain date: Sunday\, March 20) \nPresented by Laura Ducceschi\, Fine Art Photographer \nJoin us to shoot the season! Award-winning photographer Laura Ducceschi will be your mentor and guide for these monthly small group sessions. Stroll the gardens and photograph what inspires you\, while learning various compositional and technical options on the spot. \nParticipants will need to bring a camera\, a fully charged battery\, and a camera card with space to shoot freely. Photographers with any kind of camera can benefit\, but DSLRs are recommended. \nMembers: $15/walk; Non-Members: $20/walk \n \nPhoto Walks will take place on the following Third Saturdays:  \nFebruary 19\, March 19\, 9:00 – 11:00 am and May 21\, June 18\, 8:00 – 10:00 am
URL:https://www.jenkinsarboretum.org/event/photo-walk-8/
LOCATION:Jenkins Arboretum & Gardens\, 631 Berwyn Baptist Road\, Devon\, PA\, 19333\, United States
ATTACH;FMTTYPE=image/jpeg:https://www.jenkinsarboretum.org/wp-content/uploads/2021/12/6770a2e7db387771caa35f285b22d8dc-jXna4p.tmp_.jpg
END:VEVENT
BEGIN:VEVENT
DTSTART;TZID=America/New_York:20220321T100000
DTEND;TZID=America/New_York:20220321T103000
DTSTAMP:20260421T072905
CREATED:20211208T163738Z
LAST-MODIFIED:20211208T163738Z
UID:4912-1647856800-1647858600@www.jenkinsarboretum.org
SUMMARY:Storytime (All Ages)
DESCRIPTION:Join us for a fun morning out at Jenkins!
URL:https://www.jenkinsarboretum.org/event/storytime-all-ages-3/
LOCATION:Jenkins Arboretum & Gardens\, 631 Berwyn Baptist Road\, Devon\, PA\, 19333\, United States
ATTACH;FMTTYPE=image/jpeg:https://www.jenkinsarboretum.org/wp-content/uploads/2021/12/74f980efdd7ca511325740402b519301-iP9lKo.tmp_.jpg
END:VEVENT
END:VCALENDAR