BEGIN:VCALENDAR
VERSION:2.0
PRODID:-//Jenkins Arboretum &amp; Gardens - ECPv6.15.17.1//NONSGML v1.0//EN
CALSCALE:GREGORIAN
METHOD:PUBLISH
X-ORIGINAL-URL:https://www.jenkinsarboretum.org
X-WR-CALDESC:Events for Jenkins Arboretum &amp; Gardens
REFRESH-INTERVAL;VALUE=DURATION:PT1H
X-Robots-Tag:noindex
X-PUBLISHED-TTL:PT1H
BEGIN:VTIMEZONE
TZID:America/New_York
BEGIN:DAYLIGHT
TZOFFSETFROM:-0500
TZOFFSETTO:-0400
TZNAME:EDT
DTSTART:20250309T070000
END:DAYLIGHT
BEGIN:STANDARD
TZOFFSETFROM:-0400
TZOFFSETTO:-0500
TZNAME:EST
DTSTART:20251102T060000
END:STANDARD
BEGIN:DAYLIGHT
TZOFFSETFROM:-0500
TZOFFSETTO:-0400
TZNAME:EDT
DTSTART:20260308T070000
END:DAYLIGHT
BEGIN:STANDARD
TZOFFSETFROM:-0400
TZOFFSETTO:-0500
TZNAME:EST
DTSTART:20261101T060000
END:STANDARD
BEGIN:DAYLIGHT
TZOFFSETFROM:-0500
TZOFFSETTO:-0400
TZNAME:EDT
DTSTART:20270314T070000
END:DAYLIGHT
BEGIN:STANDARD
TZOFFSETFROM:-0400
TZOFFSETTO:-0500
TZNAME:EST
DTSTART:20271107T060000
END:STANDARD
END:VTIMEZONE
BEGIN:VEVENT
DTSTART;TZID=America/New_York:20261106T100000
DTEND;TZID=America/New_York:20261106T113000
DTSTAMP:20260423T142303
CREATED:20260421T201730Z
LAST-MODIFIED:20260421T201732Z
UID:15908-1793959200-1793964600@www.jenkinsarboretum.org
SUMMARY:Member Exclusive: Conservation Woodlands Hike
DESCRIPTION:Get a behind-the-scenes look at a special spot at Jenkins! Join with other members at the Patron Level and above as we explore behind the scenes at Jenkins! Katie Chubbuck\, Ecological Horticulturist\, will lead us on a tour of the Conservation Woodlands\, a 10-acre tract of forest that is the site of future garden expansions. It is sure to be an inspiring autumn walk through the woods! \n\n\n\nWe will be walking on steep\, uneven\, unpaved trails; please wear sturdy footwear and bring walking sticks if needed. \n\n\n\nThis event is free for members at the Patron Level and above ($250+). Tickets limited to two per membership. Patron Level members will receive a link to RSVP via email. Not a Patron Level member? Renew or upgrade your membership to attend!
URL:https://www.jenkinsarboretum.org/event/member-exclusive-conservation-woodlands-hike/
LOCATION:Jenkins Arboretum & Gardens\, 631 Berwyn Baptist Road\, Devon\, PA\, 19333\, United States
ATTACH;FMTTYPE=image/jpeg:https://www.jenkinsarboretum.org/wp-content/uploads/2026/04/Conservation-Woodlands-Hike-1.jpg
END:VEVENT
END:VCALENDAR