BEGIN:VCALENDAR
VERSION:2.0
PRODID:-//Jenkins Arboretum &amp; Gardens - ECPv6.15.17.1//NONSGML v1.0//EN
CALSCALE:GREGORIAN
METHOD:PUBLISH
X-WR-CALNAME:Jenkins Arboretum &amp; Gardens
X-ORIGINAL-URL:https://www.jenkinsarboretum.org
X-WR-CALDESC:Events for Jenkins Arboretum &amp; Gardens
REFRESH-INTERVAL;VALUE=DURATION:PT1H
X-Robots-Tag:noindex
X-PUBLISHED-TTL:PT1H
BEGIN:VTIMEZONE
TZID:America/New_York
BEGIN:DAYLIGHT
TZOFFSETFROM:-0500
TZOFFSETTO:-0400
TZNAME:EDT
DTSTART:20250309T070000
END:DAYLIGHT
BEGIN:STANDARD
TZOFFSETFROM:-0400
TZOFFSETTO:-0500
TZNAME:EST
DTSTART:20251102T060000
END:STANDARD
BEGIN:DAYLIGHT
TZOFFSETFROM:-0500
TZOFFSETTO:-0400
TZNAME:EDT
DTSTART:20260308T070000
END:DAYLIGHT
BEGIN:STANDARD
TZOFFSETFROM:-0400
TZOFFSETTO:-0500
TZNAME:EST
DTSTART:20261101T060000
END:STANDARD
BEGIN:DAYLIGHT
TZOFFSETFROM:-0500
TZOFFSETTO:-0400
TZNAME:EDT
DTSTART:20270314T070000
END:DAYLIGHT
BEGIN:STANDARD
TZOFFSETFROM:-0400
TZOFFSETTO:-0500
TZNAME:EST
DTSTART:20271107T060000
END:STANDARD
END:VTIMEZONE
BEGIN:VEVENT
DTSTART;TZID=America/New_York:20260423T173000
DTEND;TZID=America/New_York:20260423T200000
DTSTAMP:20260423T060611
CREATED:20251222T185704Z
LAST-MODIFIED:20251222T190145Z
UID:15112-1776965400-1776974400@www.jenkinsarboretum.org
SUMMARY:Opening Night Party at The Garden Shop Nursery
DESCRIPTION:Help us kick off our opening weekend sale!Opening Night Party Thursday\, April 23\, 5:30–8:00 PM Kick off the growing season by attending our exclusive opening night party! Get first dibs on plants while enjoying an open bar and hors d’oeuvres in the company of other plant enthusiasts. Experts from the Delaware Valley Chapter of the American Rhododendron Society as well as Jenkins’ horticulture staff will be on hand to answer questions and provide expert guidance on plant selection throughout the evening. Members: $30 | Non-Members: $40 __________________ Can’t make it for this special event? Don’t worry—this is just the start of the season! Shop for native plants in The Garden Shop nursery\, open daily from April 24 through mid-October.
URL:https://www.jenkinsarboretum.org/event/opening-night-party-at-the-garden-shop-nursery/
LOCATION:Jenkins Arboretum & Gardens\, 631 Berwyn Baptist Road\, Devon\, PA\, 19333\, United States
ATTACH;FMTTYPE=image/jpeg:https://www.jenkinsarboretum.org/wp-content/uploads/2025/12/6328f3e0abded61d96dbd0deff54075d-YCbZRD.tmp_.jpg
END:VEVENT
END:VCALENDAR